BEGIN:VCALENDAR
VERSION:2.0
PRODID:-//eventon.com NONSGML v1.0//EN
CALSCALE:GREGORIAN
METHOD:PUBLISH
BEGIN:VEVENT
UID:69e888017b87a
DTSTAMP:20260422T083409Z
DTSTART:20221103T170000Z
DTEND:20221118T020000Z
LOCATION:https://attendee.gototraining.com/r/7199259510769229057
SUMMARY:Training is Closed\,  Live-stream Foundations of the LENS Training: November 3\,  10\,  17\,  2022
DESCRIPTION:This training is now closed. To become a LENS Provider\,  it is
  required to take the Foundations of the LENS Training: $850 If you are a c
 urrent LENS Provider or Technician looking to re-take the course at half-pr
 ice: $425 (Please register online\,  and we will invoice you personally for
  the[..]\nhttps://main.ochslabs.com/events/live-stream-foundations-of-the-l
 ens-training-november-3-10-17-2022/var/event_access
URL:https://main.ochslabs.com/events/live-stream-foundations-of-the-lens-training-november-3-10-17-2022/var/event_access
END:VEVENT
END:VCALENDAR