BEGIN:VCALENDAR
VERSION:2.0
PRODID:-//eventon.com NONSGML v1.0//EN
CALSCALE:GREGORIAN
METHOD:PUBLISH
BEGIN:VEVENT
UID:69e7455767fbd
DTSTAMP:20260421T093727Z
DTSTART:20240228T000000Z
DTEND:20240301T010000Z
LOCATION:https://attendee.gototraining.com/r/8469298811038436353
SUMMARY:Foundations of the LENS Training: Live-stream
DESCRIPTION:Foundations of the LENS Training Live-Stream To become a LENS P
 rovider\,  it is required to take the Foundations of the LENS Training: Pri
 ce $990 If you are a current LENS Provider looking to re-take the course: H
 alf Price: $495 (Please register through the link below and we will send yo
 u[..]\nhttps://main.ochslabs.com/events/foundations-of-the-lens-training-li
 ve-stream-3/var/event_access
URL:https://main.ochslabs.com/events/foundations-of-the-lens-training-live-stream-3/var/event_access
END:VEVENT
END:VCALENDAR