BEGIN:VCALENDAR
VERSION:2.0
PRODID:-//eventon.com NONSGML v1.0//EN
CALSCALE:GREGORIAN
METHOD:PUBLISH
BEGIN:VEVENT
UID:69e7d051b3b81
DTSTAMP:20260421T193025Z
DTSTART:20250620T140000Z
DTEND:20250622T190000Z
LOCATION:
SUMMARY:Foundations of the LENS Training: San Francisco\,  CA
DESCRIPTION:Location: San Francisco Airport Marriott Waterfront1800 Bayshor
 e Hwy Burlingame\,  CA 94010 Foundations of the LENS Training: On Site To b
 ecome a LENS Provider\,  it is required to take the Foundations of the LENS
  Training: This 3-day workshop is a learning arena for the practitioner\,  
 which includes essential concepts\,  core paradigms\, [..]\nhttps://main.oc
 hslabs.com/events/foundations-of-the-lens-training-san-francisco-ca-3/
URL:https://main.ochslabs.com/events/foundations-of-the-lens-training-san-francisco-ca-3/
END:VEVENT
END:VCALENDAR