BEGIN:VCALENDAR
VERSION:2.0
PRODID:-//eventon.com NONSGML v1.0//EN
CALSCALE:GREGORIAN
METHOD:PUBLISH
BEGIN:VEVENT
UID:69e72fdce5b0b
DTSTAMP:20260421T080548Z
DTSTART:20260219T150000Z
DTEND:20260221T230000Z
LOCATION:
SUMMARY:Foundations of the LENS Training: San Francisco Bay Area\,  CA
DESCRIPTION:Location: DoubleTree by Hilton Hotel San Francisco Airport Near
 est Airports: San Francisco (SFO) or Oakland (OAK) Foundations of the LENS 
 Training: On Site Seminar To become a LENS Provider\,  it is required to ta
 ke: Foundations of the LENS Training: $890 (on site price) Please register 
 for the LENS Seminar by[..]\nhttps://main.ochslabs.com/events/foundations-o
 f-the-lens-training-sonoma-wine-country-ca/
URL:https://main.ochslabs.com/events/foundations-of-the-lens-training-sonoma-wine-country-ca/
END:VEVENT
END:VCALENDAR